BEGIN:VCALENDAR
VERSION:2.0
PRODID:-//Mandala South Asian Performing Arts - ECPv6.15.10//NONSGML v1.0//EN
CALSCALE:GREGORIAN
METHOD:PUBLISH
X-WR-CALNAME:Mandala South Asian Performing Arts
X-ORIGINAL-URL:https://mandalaarts.org/arts
X-WR-CALDESC:Events for Mandala South Asian Performing Arts
REFRESH-INTERVAL;VALUE=DURATION:PT1H
X-Robots-Tag:noindex
X-PUBLISHED-TTL:PT1H
BEGIN:VTIMEZONE
TZID:UTC
BEGIN:STANDARD
TZOFFSETFROM:+0000
TZOFFSETTO:+0000
TZNAME:UTC
DTSTART:20170101T000000
END:STANDARD
END:VTIMEZONE
BEGIN:VEVENT
DTSTART;TZID=UTC:20200119T140000
DTEND;TZID=UTC:20200119T160000
DTSTAMP:20260425T184424
CREATED:20200114T051146Z
LAST-MODIFIED:20200114T051508Z
UID:18872-1579442400-1579449600@mandalaarts.org
SUMMARY:Odissi Workshop with Misha Talapatra
DESCRIPTION:
URL:https://mandalaarts.org/arts/event/odissi-workshop-with-misha-talapatra/
LOCATION:Reva and David Logan Center\, 915 E 60th\, Chicago\, IL\, 60637\, United States
END:VEVENT
BEGIN:VEVENT
DTSTART;TZID=UTC:20200105T153000
DTEND;TZID=UTC:20200105T163000
DTSTAMP:20260425T184424
CREATED:20190913T033440Z
LAST-MODIFIED:20200103T022436Z
UID:18422-1578238200-1578241800@mandalaarts.org
SUMMARY:Pre Bharatanatyam
DESCRIPTION:Learn the stories\, rhythms and movement of South Asian mythology through dance! This creative movement class explores space by creating animals\, heroes and demons with our hands\, bodies\, footwork. Students begin their journey into classical Indian dance by learning technique and vocabulary from Bharatanatyam\, ultimately building complex movement sequences (adavus). \nThis class runs from January 5th through May 10th. All students are invited to perform and prepare for Mandala’s annual Academy Showcase on May 17th at the Vittum Theater. \nThis class is suited for ages 3-6. To learn more\, ask at info@mandalaaarts.org
URL:https://mandalaarts.org/arts/event/pre-bharatanatyam-3/
LOCATION:Performing Arts Studio\, 630 W Webster\, 1-E\, Chicago\, IL\, 60614\, United States
END:VEVENT
BEGIN:VEVENT
DTSTART;TZID=UTC:20200105T133000
DTEND;TZID=UTC:20200105T153000
DTSTAMP:20260425T184424
CREATED:20190913T031315Z
LAST-MODIFIED:20200103T022523Z
UID:18381-1578231000-1578238200@mandalaarts.org
SUMMARY:Beginner Bharatanatyam
DESCRIPTION:Mandala Academy’s Beginner class introduces young learners to the world of classical Indian dance. Students explore form\, movement sequences (adavus)\, melody and rhythm. Students also become familiar with South Asian folk tales and mythology\, and create characters through gesture and physicality. \nThis class runs from January 5th through May 10th. All students are invited to perform and prepare for Mandala’s annual Academy Showcase on May 17th at the Vittum Theater. \nThis class is suited for ages 7-8. To learn more\, ask at info@mandalaaarts.org
URL:https://mandalaarts.org/arts/event/beginner-bharatanatyam-3/
LOCATION:Performing Arts Studio\, 630 W Webster\, 1-E\, Chicago\, IL\, 60614\, United States
END:VEVENT
BEGIN:VEVENT
DTSTART;TZID=UTC:20200104T150000
DTEND;TZID=UTC:20200104T170000
DTSTAMP:20260425T184424
CREATED:20190926T215650Z
LAST-MODIFIED:20200103T020050Z
UID:18596-1578150000-1578157200@mandalaarts.org
SUMMARY:Intermediate Bharatanatyam II
DESCRIPTION:Mandala Academy’s Intermediate class builds upon the basics of classical Indian dance. Students perfect adavus\, musical structures\, and begin an exploration of abhinaya and South Asian poetry. Our curriculum emphasizes performance as a tool to build teamwork\, leadership\, and cultural confidence. \nThis class runs from January 4th through May 16th. All students are invited to perform and prepare for Mandala’s annual Academy Showcase on May 17th at the Vittum Theater. \nThis class is suited for ages 15+. To learn more\, ask at info@mandalaarts.org.
URL:https://mandalaarts.org/arts/event/intermediate-bharatanatyam-ii/
LOCATION:American Rhythm Center\, 410 S. Michigan Avenue\, 3rd Floor\, Chicago\, IL\, 60606\, United States
END:VEVENT
BEGIN:VEVENT
DTSTART;TZID=UTC:20200104T130000
DTEND;TZID=UTC:20200104T150000
DTSTAMP:20260425T184424
CREATED:20190926T215104Z
LAST-MODIFIED:20200103T020237Z
UID:18452-1578142800-1578150000@mandalaarts.org
SUMMARY:Intermediate Bharatanatyam I
DESCRIPTION:Mandala Academy’s Intermediate class builds upon the basics of classical Indian dance. Students perfect adavus\, musical structures\, and begin an exploration of abhinaya and South Asian poetry. Our curriculum emphasizes performance as a tool to build teamwork\, leadership\, and cultural confidence. \nThis class runs from January 4th through May 16th. All students are invited to perform and prepare for Mandala’s annual Academy Showcase on May 17th at the Vittum Theater. \nThis class is suited for ages 11+. To learn more\, ask at info@mandalaarts.org.
URL:https://mandalaarts.org/arts/event/intermediate-bharatanatyam-i/
LOCATION:410 S. Michigan Avenue\, Suite 520\, Chicago\, IL\, 60605\, United States
END:VEVENT
BEGIN:VEVENT
DTSTART;TZID=UTC:20191111T193000
DTEND;TZID=UTC:20191111T213000
DTSTAMP:20260425T184424
CREATED:20190927T002243Z
LAST-MODIFIED:20190927T002243Z
UID:18659-1573500600-1573507800@mandalaarts.org
SUMMARY:Love + Light: The Jubilant Return of Diwali
DESCRIPTION:Join Chicago Sinfonietta for its second Diwali concert\, heightened this year by themes of musical mythology\, familiar traditions and of course\, magical color! Listen as East meets West through Beethoven’s Leonore Overture No. 3 and a reimagined performance of Stravinsky’s Suite From “The Firebird” with accompanying Indian dance. Experience the virtuosic stylings of violinist Dr. Lakshminarayana Subramaniam\, as the Carnatic musical traditions of southern India fuse with Western classical traditions. Love + Light also marks another triumphant return—that of guest conductor Sameer Patel\, former Assistant Conductor of the San Diego Symphony and Project Inclusion Freeman Conducting Fellow alumni. \nMandala Ensemble brings contemporary movement adapted from Bharatanatyam and the traditional ballet\, choreographed by Ashwaty Chennat.
URL:https://mandalaarts.org/arts/event/love-light-the-jubilant-return-of-diwali-2/
LOCATION:Chicago Symphony Center\, 220 S. Michigan Avenue\, Chicago\, IL\, 60604\, United States
ORGANIZER;CN="Chicago Sinfonietta":MAILTO:boxoffice@chicagosinfonietta.org
END:VEVENT
BEGIN:VEVENT
DTSTART;TZID=UTC:20191109T200000
DTEND;TZID=UTC:20191109T220000
DTSTAMP:20260425T184424
CREATED:20190927T001831Z
LAST-MODIFIED:20190927T002806Z
UID:18654-1573329600-1573336800@mandalaarts.org
SUMMARY:Love + Light: The Jubilant Return of Diwali
DESCRIPTION:Join Chicago Sinfonietta for its second Diwali concert\, heightened this year by themes of musical mythology\, familiar traditions and of course\, magical color! Listen as East meets West through Beethoven’s Leonore Overture No. 3 and a reimagined performance of Stravinsky’s Suite From “The Firebird” with accompanying Indian dance. Experience the virtuosic stylings of violinist Dr. Lakshminarayana Subramaniam\, as the Carnatic musical traditions of southern India fuse with Western classical traditions. Love + Light also marks another triumphant return—that of guest conductor Sameer Patel\, former Assistant Conductor of the San Diego Symphony and Project Inclusion Freeman Conducting Fellow alumni. \nMandala Ensemble brings contemporary movement adapted from Bharatanatyam and the traditional ballet\, choreographed by Ashwaty Chennat.
URL:https://mandalaarts.org/arts/event/love-light-the-jubilant-return-of-diwali/
LOCATION:Wentz Concert Hall\, 171 E. Chicago Avenue\, Naperville\, IL\, 60540\, United States
ORGANIZER;CN="Chicago Sinfonietta":MAILTO:boxoffice@chicagosinfonietta.org
END:VEVENT
BEGIN:VEVENT
DTSTART;TZID=UTC:20191103T150000
DTEND;TZID=UTC:20191103T170000
DTSTAMP:20260425T184424
CREATED:20190926T225541Z
LAST-MODIFIED:20190926T225650Z
UID:18643-1572793200-1572800400@mandalaarts.org
SUMMARY:The Story of Ram
DESCRIPTION:Multi-headed creatures\, talking animals\, boastful demons\, and other unforgettable characters spring to life!  \nSet upon a backdrop of intricate and lively shadow puppetry (Wayang Kulit)\, this modern dance theatre reworks the ancient epic Ramayana: a classic tale that spans across cultures. Movement artists from India\, Java\, Bali\, and Khmer cultures tell the story using the entire body. Hand gestures\, complex footwork and facial expressions recreate heroes and demons alike.
URL:https://mandalaarts.org/arts/event/the-story-of-ram-3/
LOCATION:Studebaker Theater\, 410 S. Michigan Avenue\, Suite 520\, Chicago\, IL\, 60605\, United States
END:VEVENT
BEGIN:VEVENT
DTSTART;TZID=UTC:20191010T180000
DTEND;TZID=UTC:20191010T200000
DTSTAMP:20260425T184424
CREATED:20190926T230026Z
LAST-MODIFIED:20190927T000847Z
UID:18647-1570730400-1570737600@mandalaarts.org
SUMMARY:Firebird Friendraiser
DESCRIPTION:HOSTED BY DR. UMANG PATEL\, PRESIDENT OF THE BOARD OF DIRECTORS OF MANDALA ARTS\, AND MRS. PARAGI PATEL — A SPECIAL INTIMATE EVENING OF PERFORMANCE AND FELLOWSHIP.\nUnder the direction of Pranita Nayar\, Executive Artistic Director\, Mandala’s Principal Artist Ashwaty Chennat and select ensemble members will present an excerpt from a new work to Igor Stravinsky’s masterwork “The Firebird.” This is a preview of the full piece we will perform at Symphony Center with Chicago Sinfonietta in celebration of Diwali.
URL:https://mandalaarts.org/arts/event/firebird-friendraiser/
LOCATION:Curtiss Hall\, 410 S. Michigan Avenue\, 10th Floor\, Chicago\, IL\, 60605\, United States
END:VEVENT
BEGIN:VEVENT
DTSTART;TZID=UTC:20190317T140000
DTEND;TZID=UTC:20190317T160000
DTSTAMP:20260425T184424
CREATED:20190129T230638Z
LAST-MODIFIED:20190205T010302Z
UID:17890-1552831200-1552838400@mandalaarts.org
SUMMARY:Ratri: Music and Dance of the Night
DESCRIPTION:
URL:https://mandalaarts.org/arts/event/ratri-music-and-dance-of-the-night/
LOCATION:Reva and David Logan Center\, 915 E 60th\, Chicago\, IL\, 60637\, United States
ORGANIZER;CN="Reva and David Logan Center for the Arts":MAILTO:logancenter@uchicago.edu
END:VEVENT
BEGIN:VEVENT
DTSTART;TZID=UTC:20190129T000000
DTEND;TZID=UTC:20190129T000000
DTSTAMP:20260425T184424
CREATED:20190130T054412Z
LAST-MODIFIED:20190130T054524Z
UID:17502-1548720000-1548720000@mandalaarts.org
SUMMARY:Abhisara: Converging our
DESCRIPTION:
URL:https://mandalaarts.org/arts/event/abhisara-converging-our/
LOCATION:410 S. Michigan Avenue\, Suite 520\, Chicago\, IL\, 60605\, United States
END:VEVENT
BEGIN:VEVENT
DTSTART;TZID=UTC:20190110T191500
DTEND;TZID=UTC:20190110T201500
DTSTAMP:20260425T184424
CREATED:20181228T002551Z
LAST-MODIFIED:20190913T033630Z
UID:17508-1547147700-1547151300@mandalaarts.org
SUMMARY:Konnakol
DESCRIPTION:Konnakol (vocal percussion/beat boxing/nattuvangam) is an iconic art form\, known for whirring\, guttural syllables within Indian classical music. \nIn this class\, you will learn the basics of time-keeping (taalam)\, rhythmic structures\, and composition for Indian classical music. Fast paced call and response will call for interaction between students and teachers…and tongue twisters! \nThis class will be taught by Laksha Dantran. Laksha is a Bharatanatyam\, Kuchupdi and Konnakol artist and has trained and taught at the prestigious Kalakshetra Foundation. She is a trans woman who has paved the way for LGBTQ artists in the classical Indian dance and music world with thought-provoking projects and artistic resilience. \nThis session lasts for 11 weeks and ends in a student performance on March 17th! Students will be expected to bring their own cymbals (kinnaram).
URL:https://mandalaarts.org/arts/event/konnakol/
LOCATION:Mandala Studio\, 410 S. Michigan Avenue\, Suite 520\, Chicago\, IL\, 60605\, United States
ORGANIZER;CN="Pranita Nayar":MAILTO:info@mandalaarts.org
END:VEVENT
BEGIN:VEVENT
DTSTART;TZID=UTC:20190110T180000
DTEND;TZID=UTC:20190110T190000
DTSTAMP:20260425T184424
CREATED:20180818T012124Z
LAST-MODIFIED:20200428T233909Z
UID:16998-1547143200-1547146800@mandalaarts.org
SUMMARY:Adult Bharatanatyam
DESCRIPTION:This is a Bharatanatyam class for all levels: blank slate to post graduates. \nMaster Teaching Artist\, Pranita Nayar\, instructs a technique-focused studio class\, refining the movement and quality of dancers. From body positioning to nuanced eye movements\, dancers can strengthen form at their own pace. \nPranita trained with acclaimed dance artist Sonal Mansingh in New Delhi\, and has since delivered Bharatanatyam culture to generations of artists in the Chicagoland area. \nThis is a drop-in class and offers plenty of performance opportunities for dancers!
URL:https://mandalaarts.org/arts/event/adult-bharatanatyam-2/
LOCATION:American Rhythm Center\, 410 S. Michigan Avenue\, 3rd Floor\, Chicago\, IL\, 60606\, United States
CATEGORIES:Academy,Classes
END:VEVENT
BEGIN:VEVENT
DTSTART;TZID=UTC:20190106T150000
DTEND;TZID=UTC:20190106T160000
DTSTAMP:20260425T184424
CREATED:20181126T232608Z
LAST-MODIFIED:20190913T032407Z
UID:17368-1546786800-1546790400@mandalaarts.org
SUMMARY:Pre Bharatanatyam
DESCRIPTION:Pre Bharatanatyam brings young artists into the world of creative movement. Through hand gestures\, rhythmic patterns that use the entire body\, and South Asian mythology\, we take a fun plunge into Bharatanatyam. For ages 3-5. \nThis class runs from January 6th through June 16th\, with a recital on June 9th. Register here or contact us at info@mandalaarts.org for more information.
URL:https://mandalaarts.org/arts/event/pre-bharatanatyam-2/
LOCATION:Performing Arts Studio\, 630 W Webster\, 1-E\, Chicago\, IL\, 60614\, United States
CATEGORIES:Academy,Classes
ORGANIZER;CN="Pranita Nayar":MAILTO:info@mandalaarts.org
END:VEVENT
BEGIN:VEVENT
DTSTART;TZID=UTC:20190106T140000
DTEND;TZID=UTC:20190106T150000
DTSTAMP:20260425T184424
CREATED:20180818T012126Z
LAST-MODIFIED:20181126T233336Z
UID:17000-1546783200-1546786800@mandalaarts.org
SUMMARY:Beginner Bharatanatyam
DESCRIPTION:Mandala Academy’s Beginner class introduces young learners to the world of Bharatanatyam. This class explores beat-making\, hand gestures\, and body position to build complex movement (adavus). Students also become familiar with South Asian folk tales and mythology\, and create characters through gestures and physicality. \nThis class runs from January 6th through June 16th\, with a recital on June 9th. Register here or contact us at info@mandalaarts.org for more information.
URL:https://mandalaarts.org/arts/event/beginner-bharartanatyam/
LOCATION:Performing Arts Studio\, 630 W Webster\, 1-E\, Chicago\, IL\, 60614\, United States
CATEGORIES:Academy,Classes
END:VEVENT
BEGIN:VEVENT
DTSTART;TZID=UTC:20190105T120000
DTEND;TZID=UTC:20190105T140000
DTSTAMP:20260425T184424
CREATED:20180810T045125Z
LAST-MODIFIED:20181126T233208Z
UID:16783-1546689600-1546696800@mandalaarts.org
SUMMARY:Intermediate Bharatanatyam
DESCRIPTION:Mandala Academy’s Intermediate class focuses on comprehension of the basics of Bharatanatyam. Students perfect adavus\, musical structures\, and begin an exploration of abhinaya and South Asian poetry. \nThis class is performance-oriented. Mandala emphasizes performance as a tool for teamwork and leadership building; lifelong skills for our students to become cultural ambassadors within their communities. \nIntermediate Bharatanatyam runs through January 5th through June 15th\, with a recital on June 10th. For further inquiry please reach out to us at info@mandalaarts.org.
URL:https://mandalaarts.org/arts/event/intermediate-bharatanatyam-2/
LOCATION:American Rhythm Center\, 410 S. Michigan Avenue\, 3rd Floor\, Chicago\, IL\, 60606\, United States
CATEGORIES:Academy,Classes
ATTACH;FMTTYPE=image/jpeg:https://mandalaarts.org/arts/wp-content/uploads/2018/06/Ganga1.jpg
ORGANIZER;CN="Pranita Nayar":MAILTO:info@mandalaarts.org
END:VEVENT
BEGIN:VEVENT
DTSTART;TZID=UTC:20181212T110000
DTEND;TZID=UTC:20181212T130000
DTSTAMP:20260425T184424
CREATED:20181206T091510Z
LAST-MODIFIED:20181206T091510Z
UID:17491-1544612400-1544619600@mandalaarts.org
SUMMARY:Eight Heroines
DESCRIPTION:Nine-time “Master Artist” Pranita Nayar presents her new apprentice…\nOpen up to a mesmerizing tradition of storytelling through miming\, gestures\, and rhythm: Abhinaya. Through eight stories\, representing the multi-faceted “Nayika”\, our heroine explores relationships\, love and heartbreak. \nAfter a year-long apprenticeship in the art of Abhinaya\, Ashwaty Chennat will present a traditional one-woman dance-theatre for community members in the Devon and Chicagoland area. Master Artist Pranita Nayar is proud to present her first adult student and professional artist in a full debut. \nThis program is made possible through Illinois Arts Council’s Ethnic and Folks Arts Master-Apprentice Award. \nLearn More
URL:https://mandalaarts.org/arts/event/eight-heroines/
LOCATION:The Indo-American Center\, 6328 N California Ave.\, Chicago\, Illinois\, 60659\, United States
CATEGORIES:Performance
ATTACH;FMTTYPE=image/jpeg:https://mandalaarts.org/arts/wp-content/uploads/2018/12/8Heroines-3.jpg
ORGANIZER;CN="Pranita Nayar":MAILTO:info@mandalaarts.org
END:VEVENT
BEGIN:VEVENT
DTSTART;TZID=UTC:20181118T153000
DTEND;TZID=UTC:20181118T170000
DTSTAMP:20260425T184424
CREATED:20181023T225417Z
LAST-MODIFIED:20181026T085358Z
UID:17285-1542555000-1542560400@mandalaarts.org
SUMMARY:The Story of Ram
DESCRIPTION:Multi-headed creatures\, talking animals\, boastful demons\, and other unforgettable characters spring to life! Mandala Arts is proud to present the classic tale of Ram\, the brave soldier\, who must save the beautiful Sita from the clenches of a conniving demon king. Told throughout South and Southeast Asia\, the Ramayana will come to life through shadow puppetry and dance from Bali and India. This performance introduces audiences to South and Southeast Asian culture through creative storytelling.
URL:https://mandalaarts.org/arts/event/the-story-of-ram/
LOCATION:Walter Peyton High School\, 1034 N Wells Street\, Chicago\, IL\, 60610\, United States
CATEGORIES:Performance
ATTACH;FMTTYPE=image/png:https://mandalaarts.org/arts/wp-content/uploads/2018/08/DSC_2302.png
ORGANIZER;CN="Pranita Nayar":MAILTO:info@mandalaarts.org
END:VEVENT
BEGIN:VEVENT
DTSTART;TZID=UTC:20181116T100000
DTEND;TZID=UTC:20181116T110000
DTSTAMP:20260425T184424
CREATED:20181023T225744Z
LAST-MODIFIED:20181023T225744Z
UID:17288-1542362400-1542366000@mandalaarts.org
SUMMARY:The Story of Ram
DESCRIPTION:Multi-headed creatures\, talking animals\, boastful demons\, and other unforgettable characters spring to life! Mandala Arts is proud to present the classic tale of Ram\, the brave soldier\, who must save the beautiful Sita from the clenches of a conniving demon king. Told throughout South and Southeast Asia\, the Ramayana will come to life through shadow puppetry and dance from Bali and India. This performance introduces audiences to South and Southeast Asian culture through creative storytelling.
URL:https://mandalaarts.org/arts/event/the-story-of-ram-2/
LOCATION:North Shore Center for the Performing Arts\, 9501 Skokie Boulevard\, Skokie\, IL\, 60077\, United States
ORGANIZER;CN="Pranita Nayar":MAILTO:info@mandalaarts.org
END:VEVENT
BEGIN:VEVENT
DTSTART;TZID=UTC:20181006T193000
DTEND;TZID=UTC:20181006T213000
DTSTAMP:20260425T184424
CREATED:20171101T130000Z
LAST-MODIFIED:20181005T225916Z
UID:16048-1538854200-1538861400@mandalaarts.org
SUMMARY:Masks and Myths
DESCRIPTION:Masks and Myths: Devils and Dancers from Sri Lanka\nDubbed “Devil Dancers\,” Sri Lankan dance artists present their voice\, history and culture\, loud and clear. \nIn 1893\, Chicago had hosted the World’s Columbian Exposition\, and infamous and pivotal moment in American history. Great buildings and parks was built to represent the greatest architecture in Western and Classical civilization; and various communities were brough to fill in the scenes\, as colonial conquests. Amongst these\, were the “people of Ceylon\,” who spent afternoons pouring tea for American sight-seers in Hyde Park\, Chicago. \n125 years later\, Sri Lankan dancers and musicians present their artistry with honesty and agency. Mandala presents Masks and Myths as a historical and liberatory experiences for both performers and Chicago’s communities. Through a three part program: the traditions of Sri Lankan performance\, the effects of colonialsm on artistry\, and the progresion forward\, our artists hope to express the power and bravery necessary to keep art forms living and moving. \n\nThis production will be the culmination of a year-long exchange between Mandala and Sri Lankan artists. Stay tuned for accesible performances and workshops throughout the year\, across Chicago. \nFeaturing: Sudesh Mantillake\, Ashwaty Chennat and Ashley Fargnoli\nDirected by: Pranita (Jain) Nayar\nProduction by: Connor Torres\nLight Design: Geoffrey Bushor \nThis program and Cultural Exchange is funded by the MacArthur Foundation International Connections Fund. \n\nTickets\n\n 
URL:https://mandalaarts.org/arts/event/masks-myths/
LOCATION:Reva and David Logan Center\, 915 E 60th\, Chicago\, IL\, 60637\, United States
CATEGORIES:Ensemble,Performance
ATTACH;FMTTYPE=image/jpeg:https://mandalaarts.org/arts/wp-content/uploads/2017/11/image3.jpg
ORGANIZER;CN="Pranita Nayar":MAILTO:info@mandalaarts.org
END:VEVENT
BEGIN:VEVENT
DTSTART;TZID=UTC:20181004T173000
DTEND;TZID=UTC:20181004T173000
DTSTAMP:20260425T184424
CREATED:20180801T234927Z
LAST-MODIFIED:20180801T235444Z
UID:16352-1538674200-1538674200@mandalaarts.org
SUMMARY:Masks and Myths Outreach
DESCRIPTION:
URL:https://mandalaarts.org/arts/event/masks-and-myths-outreach-3/
LOCATION:Chicago Public Library Albany Park\, 3401 W. Foster Ave.\, Chicago\, Illinois\, 60625\, United States
CATEGORIES:Community Event
ATTACH;FMTTYPE=image/jpeg:https://mandalaarts.org/arts/wp-content/uploads/2017/11/image3.jpg
END:VEVENT
BEGIN:VEVENT
DTSTART;TZID=UTC:20181003T170000
DTEND;TZID=UTC:20181003T170000
DTSTAMP:20260425T184424
CREATED:20180801T234943Z
LAST-MODIFIED:20180801T235603Z
UID:16358-1538586000-1538586000@mandalaarts.org
SUMMARY:Masks and Myths Outreach
DESCRIPTION:
URL:https://mandalaarts.org/arts/event/masks-and-myths-outreach-9/
LOCATION:Kelvyn Park\, 4438 W Whitewood Ave.\, Chicago\, Illinois\, 60639\, United States
CATEGORIES:Community Event
ATTACH;FMTTYPE=image/jpeg:https://mandalaarts.org/arts/wp-content/uploads/2017/11/image5.jpg
END:VEVENT
BEGIN:VEVENT
DTSTART;TZID=UTC:20181002T113000
DTEND;TZID=UTC:20181002T113000
DTSTAMP:20260425T184424
CREATED:20180801T234947Z
LAST-MODIFIED:20180801T235348Z
UID:16360-1538479800-1538479800@mandalaarts.org
SUMMARY:Masks and Myths Outreach
DESCRIPTION:
URL:https://mandalaarts.org/arts/event/masks-and-myths-outreach-11/
LOCATION:The Indo-American Center\, 6328 N California Ave.\, Chicago\, Illinois\, 60659\, United States
CATEGORIES:Community Event
ATTACH;FMTTYPE=image/jpeg:https://mandalaarts.org/arts/wp-content/uploads/2017/11/image4.jpg
END:VEVENT
BEGIN:VEVENT
DTSTART;TZID=UTC:20181001T180000
DTEND;TZID=UTC:20181001T180000
DTSTAMP:20260425T184424
CREATED:20180801T234929Z
LAST-MODIFIED:20180801T235712Z
UID:16353-1538416800-1538416800@mandalaarts.org
SUMMARY:Masks and Myths Outreach
DESCRIPTION:
URL:https://mandalaarts.org/arts/event/masks-and-myths-outreach-4/
LOCATION:Chicago Public Library Austin\, 5615 W Race Ave.\, Chicago\, Illinois\, 60644\, United States
CATEGORIES:Community Event
ATTACH;FMTTYPE=image/jpeg:https://mandalaarts.org/arts/wp-content/uploads/2017/11/image2.jpg
END:VEVENT
BEGIN:VEVENT
DTSTART;TZID=UTC:20180929T140000
DTEND;TZID=UTC:20180929T140000
DTSTAMP:20260425T184424
CREATED:20180801T234925Z
LAST-MODIFIED:20180801T235828Z
UID:16351-1538229600-1538229600@mandalaarts.org
SUMMARY:Masks and Myths Outreach
DESCRIPTION:
URL:https://mandalaarts.org/arts/event/masks-and-myths-outreach-2/
LOCATION:Chicago Public Library Chinatown\, 2100 S Wentworth Ave.\, Chicago\, Illinois\, 60616\, United States
CATEGORIES:Community Event
ATTACH;FMTTYPE=image/jpeg:https://mandalaarts.org/arts/wp-content/uploads/2017/11/image4.jpg
END:VEVENT
BEGIN:VEVENT
DTSTART;TZID=UTC:20180927T100000
DTEND;TZID=UTC:20180927T100000
DTSTAMP:20260425T184424
CREATED:20180801T234940Z
LAST-MODIFIED:20180801T235914Z
UID:16356-1538042400-1538042400@mandalaarts.org
SUMMARY:Masks and Myths Outreach
DESCRIPTION:
URL:https://mandalaarts.org/arts/event/masks-and-myths-outreach-7/
LOCATION:University of Chicago Laboratory Schools\, 5835 S Kimbark Ave.\, Chicago\, Illinois\, 60637\, United States
CATEGORIES:Community Event
ATTACH;FMTTYPE=image/jpeg:https://mandalaarts.org/arts/wp-content/uploads/2017/11/image3.jpg
END:VEVENT
BEGIN:VEVENT
DTSTART;TZID=UTC:20180925T160000
DTEND;TZID=UTC:20180925T160000
DTSTAMP:20260425T184424
CREATED:20180801T234931Z
LAST-MODIFIED:20180801T235958Z
UID:16354-1537891200-1537891200@mandalaarts.org
SUMMARY:Masks and Myths Outreach
DESCRIPTION:
URL:https://mandalaarts.org/arts/event/masks-and-myths-outreach-5/
LOCATION:Chicago Public Library Back of the Yards\, 2111 W. 47th St.\, Chicago\, Illinois\, 60609\, United States
CATEGORIES:Community Event
ATTACH;FMTTYPE=image/jpeg:https://mandalaarts.org/arts/wp-content/uploads/2017/11/image5.jpg
END:VEVENT
BEGIN:VEVENT
DTSTART;TZID=UTC:20180925T110000
DTEND;TZID=UTC:20180925T110000
DTSTAMP:20260425T184424
CREATED:20180801T234944Z
LAST-MODIFIED:20180802T000301Z
UID:16359-1537873200-1537873200@mandalaarts.org
SUMMARY:Masks and Myths Outreach
DESCRIPTION:
URL:https://mandalaarts.org/arts/event/masks-and-myths-outreach-10/
LOCATION:The Hamdard Center\, 1542 W Devon Ave.\, Chicago\, Illinois\, 60660\, United States
CATEGORIES:Community Event
ATTACH;FMTTYPE=image/jpeg:https://mandalaarts.org/arts/wp-content/uploads/2017/11/image5.jpg
END:VEVENT
BEGIN:VEVENT
DTSTART;VALUE=DATE:20180904
DTEND;VALUE=DATE:20180906
DTSTAMP:20260425T184424
CREATED:20180830T232506Z
LAST-MODIFIED:20180831T000033Z
UID:17123-1536019200-1536191999@mandalaarts.org
SUMMARY:Flash Sale! 40% Discount: "Masks and Myths" Tickets
DESCRIPTION:Beginning at 12:00am\, Tuesday\, September 4th we’re having a 24-hour flash sale for our upcoming program! “Masks and Myths: Devils and Dancers from Sri Lanka” premiers on October 6 & 7\, 2018. Get a 40% discount on all tickets. \n  \n 
URL:https://mandalaarts.org/arts/event/flash-sale-40-discount-masks-and-myths-tickets/
LOCATION:Anywhere\, IL
CATEGORIES:Ensemble,Performance
ATTACH;FMTTYPE=image/jpeg:https://mandalaarts.org/arts/wp-content/uploads/2018/08/MDA.MasksNew.Web_.jpg
ORGANIZER;CN="Pranita Nayar":MAILTO:info@mandalaarts.org
END:VEVENT
BEGIN:VEVENT
DTSTART;TZID=UTC:20180825T140000
DTEND;TZID=UTC:20180825T140000
DTSTAMP:20260425T184424
CREATED:20180801T234923Z
LAST-MODIFIED:20180802T000445Z
UID:16350-1535205600-1535205600@mandalaarts.org
SUMMARY:Masks and Myths Outreach
DESCRIPTION:
URL:https://mandalaarts.org/arts/event/masks-and-myths-outreach/
LOCATION:Chicago Public LIbrary Edgewater\, 6000 North Broadway St.\, Chicago\, Illinois\, 60660\, United States
CATEGORIES:Community Event
ATTACH;FMTTYPE=image/jpeg:https://mandalaarts.org/arts/wp-content/uploads/2017/11/image2.jpg
END:VEVENT
END:VCALENDAR